BEGIN:VCALENDAR
VERSION:2.0
PRODID:-//Weddington Ridge HOA | A Cedar Managed Community - ECPv6.6.4.2//NONSGML v1.0//EN
CALSCALE:GREGORIAN
METHOD:PUBLISH
X-WR-CALNAME:Weddington Ridge HOA | A Cedar Managed Community
X-ORIGINAL-URL:https://weddingtonridgehoa.com
X-WR-CALDESC:Events for Weddington Ridge HOA | A Cedar Managed Community
REFRESH-INTERVAL;VALUE=DURATION:PT1H
X-Robots-Tag:noindex
X-PUBLISHED-TTL:PT1H
BEGIN:VTIMEZONE
TZID:UTC
BEGIN:STANDARD
TZOFFSETFROM:+0000
TZOFFSETTO:+0000
TZNAME:UTC
DTSTART:20220101T000000
END:STANDARD
END:VTIMEZONE
BEGIN:VEVENT
DTSTART;TZID=UTC:20230222T190000
DTEND;TZID=UTC:20230222T210000
DTSTAMP:20260422T165833
CREATED:20230120T052922Z
LAST-MODIFIED:20230120T052922Z
UID:449-1677092400-1677099600@weddingtonridgehoa.com
SUMMARY:Sip and Paint Night
DESCRIPTION:
URL:https://weddingtonridgehoa.com/event/sip-and-paint-night/
END:VEVENT
BEGIN:VEVENT
DTSTART;TZID=UTC:20230208T183000
DTEND;TZID=UTC:20230208T193000
DTSTAMP:20260422T165833
CREATED:20230123T151413Z
LAST-MODIFIED:20230123T151413Z
UID:452-1675881000-1675884600@weddingtonridgehoa.com
SUMMARY:Basic Yoga @ Weddington Ridge
DESCRIPTION:Yoga instructor Elinor Miller of https://www.facebook.com/freewomansthgouhts\nwill guide us through a one-hour basic yoga class. Come in comfy clothes\, bring water\, a towel and a yoga mat if you have one (there will be a few extra). Open to men and women\, kids 10 and up are welcome too.  Class is $10 a person. RSVP and payment due by Monday February 6th. We must have 6 people minimum to avoid the class being cancelled. No refunds after 2/6 (unless class is cancelled). \nPay Venmo or cash to Carrie Moran by Monday 2/6:\n1- Venmo: @Carrie-Moran-0 (please DO NOT select “Turn on for Purchase” because I will have to pay tax and fees to Venmo).\n2- Message me to arrange cash payment
URL:https://weddingtonridgehoa.com/event/basic-yoga-weddington-ridge/
END:VEVENT
BEGIN:VEVENT
DTSTART;VALUE=DATE:20230128
DTEND;VALUE=DATE:20230129
DTSTAMP:20260422T165833
CREATED:20230123T090156Z
LAST-MODIFIED:20230123T090156Z
UID:451-1674864000-1674950399@weddingtonridgehoa.com
SUMMARY:Kabir & Chinmoyee Bhattacharjya - Clubhouse Reservation
DESCRIPTION:
URL:https://weddingtonridgehoa.com/event/kabir-chinmoyee-bhattacharjya-clubhouse-reservation/
END:VEVENT
BEGIN:VEVENT
DTSTART;VALUE=DATE:20230121
DTEND;VALUE=DATE:20230122
DTSTAMP:20260422T165833
CREATED:20230113T091815Z
LAST-MODIFIED:20230113T091815Z
UID:448-1674259200-1674345599@weddingtonridgehoa.com
SUMMARY:Jean Staats - Clubhouse Rental
DESCRIPTION:
URL:https://weddingtonridgehoa.com/event/jean-staats-clubhouse-rental/
END:VEVENT
BEGIN:VEVENT
DTSTART;VALUE=DATE:20221230
DTEND;VALUE=DATE:20221231
DTSTAMP:20260422T165833
CREATED:20221222T094839Z
LAST-MODIFIED:20221222T094839Z
UID:437-1672358400-1672444799@weddingtonridgehoa.com
SUMMARY:Hitesh & Sonel Dave - Rental
DESCRIPTION:
URL:https://weddingtonridgehoa.com/event/hitesh-sonel-dave-rental/
END:VEVENT
BEGIN:VEVENT
DTSTART;TZID=UTC:20221210T100000
DTEND;TZID=UTC:20221210T120000
DTSTAMP:20260422T165833
CREATED:20220120T092858Z
LAST-MODIFIED:20220210T073539Z
UID:378-1670666400-1670673600@weddingtonridgehoa.com
SUMMARY:Winterfest & Santa
DESCRIPTION:
URL:https://weddingtonridgehoa.com/event/winterfest-santa/
END:VEVENT
BEGIN:VEVENT
DTSTART;VALUE=DATE:20221209
DTEND;VALUE=DATE:20221210
DTSTAMP:20260422T165833
CREATED:20220210T073413Z
LAST-MODIFIED:20220210T073413Z
UID:394-1670544000-1670630399@weddingtonridgehoa.com
SUMMARY:Clubhouse Blocked
DESCRIPTION:
URL:https://weddingtonridgehoa.com/event/clubhouse-blocked-4/
END:VEVENT
BEGIN:VEVENT
DTSTART;VALUE=DATE:20221119
DTEND;VALUE=DATE:20221120
DTSTAMP:20260422T165833
CREATED:20221028T033019Z
LAST-MODIFIED:20221028T033019Z
UID:434-1668816000-1668902399@weddingtonridgehoa.com
SUMMARY:Margaret & William Peterson - Rental
DESCRIPTION:
URL:https://weddingtonridgehoa.com/event/margaret-william-peterson-rental/
END:VEVENT
BEGIN:VEVENT
DTSTART;VALUE=DATE:20221118
DTEND;VALUE=DATE:20221119
DTSTAMP:20260422T165833
CREATED:20221103T100510Z
LAST-MODIFIED:20221103T100510Z
UID:435-1668729600-1668815999@weddingtonridgehoa.com
SUMMARY:Aaron M. Little & Meredith C. Little - Rental
DESCRIPTION:
URL:https://weddingtonridgehoa.com/event/aaron-m-little-meredith-c-little-rental/
END:VEVENT
BEGIN:VEVENT
DTSTART;VALUE=DATE:20221030
DTEND;VALUE=DATE:20221031
DTSTAMP:20260422T165834
CREATED:20221027T024335Z
LAST-MODIFIED:20221027T024335Z
UID:433-1667088000-1667174399@weddingtonridgehoa.com
SUMMARY:Sanam Shrestha and Alisha Manandhar Rental
DESCRIPTION:
URL:https://weddingtonridgehoa.com/event/sanam-shrestha-and-alisha-manandhar-rental/
END:VEVENT
BEGIN:VEVENT
DTSTART;VALUE=DATE:20221016
DTEND;VALUE=DATE:20221017
DTSTAMP:20260422T165834
CREATED:20220210T073356Z
LAST-MODIFIED:20220210T073356Z
UID:393-1665878400-1665964799@weddingtonridgehoa.com
SUMMARY:Fall Festival (tentative date)
DESCRIPTION:
URL:https://weddingtonridgehoa.com/event/fall-festival-tentative-date/
END:VEVENT
BEGIN:VEVENT
DTSTART;VALUE=DATE:20221015
DTEND;VALUE=DATE:20221016
DTSTAMP:20260422T165834
CREATED:20220210T073335Z
LAST-MODIFIED:20220210T073335Z
UID:392-1665792000-1665878399@weddingtonridgehoa.com
SUMMARY:Clubhouse Blocked
DESCRIPTION:
URL:https://weddingtonridgehoa.com/event/clubhouse-blocked-3/
END:VEVENT
BEGIN:VEVENT
DTSTART;VALUE=DATE:20221006
DTEND;VALUE=DATE:20221007
DTSTAMP:20260422T165834
CREATED:20220706T065902Z
LAST-MODIFIED:20220706T065902Z
UID:425-1665014400-1665100799@weddingtonridgehoa.com
SUMMARY:Block Clubhouse
DESCRIPTION:
URL:https://weddingtonridgehoa.com/event/block-clubhouse/
END:VEVENT
BEGIN:VEVENT
DTSTART;VALUE=DATE:20220924
DTEND;VALUE=DATE:20220925
DTSTAMP:20260422T165834
CREATED:20220210T073314Z
LAST-MODIFIED:20220210T073314Z
UID:391-1663977600-1664063999@weddingtonridgehoa.com
SUMMARY:Adults Only Event
DESCRIPTION:
URL:https://weddingtonridgehoa.com/event/adults-only-event/
END:VEVENT
BEGIN:VEVENT
DTSTART;VALUE=DATE:20220923
DTEND;VALUE=DATE:20220924
DTSTAMP:20260422T165834
CREATED:20220210T073257Z
LAST-MODIFIED:20220210T073257Z
UID:390-1663891200-1663977599@weddingtonridgehoa.com
SUMMARY:Clubhouse Blocked
DESCRIPTION:
URL:https://weddingtonridgehoa.com/event/clubhouse-blocked-2/
END:VEVENT
BEGIN:VEVENT
DTSTART;VALUE=DATE:20220910
DTEND;VALUE=DATE:20220911
DTSTAMP:20260422T165834
CREATED:20220819T111554Z
LAST-MODIFIED:20220819T111554Z
UID:431-1662768000-1662854399@weddingtonridgehoa.com
SUMMARY:Manandhar - 9/10/22 Clubhouse Rental
DESCRIPTION:
URL:https://weddingtonridgehoa.com/event/manandhar-9-10-22-clubhouse-rental/
END:VEVENT
BEGIN:VEVENT
DTSTART;VALUE=DATE:20220902
DTEND;VALUE=DATE:20220903
DTSTAMP:20260422T165834
CREATED:20220701T052531Z
LAST-MODIFIED:20220701T052531Z
UID:424-1662076800-1662163199@weddingtonridgehoa.com
SUMMARY:Maria Coretlli's Clubhouse Rental
DESCRIPTION:
URL:https://weddingtonridgehoa.com/event/maria-coretllis-clubhouse-rental/
END:VEVENT
BEGIN:VEVENT
DTSTART;VALUE=DATE:20220819
DTEND;VALUE=DATE:20220820
DTSTAMP:20260422T165834
CREATED:20220210T073238Z
LAST-MODIFIED:20220210T073238Z
UID:389-1660867200-1660953599@weddingtonridgehoa.com
SUMMARY:End of Summer Block Party
DESCRIPTION:
URL:https://weddingtonridgehoa.com/event/end-of-summer-block-party/
END:VEVENT
BEGIN:VEVENT
DTSTART;VALUE=DATE:20220813
DTEND;VALUE=DATE:20220814
DTSTAMP:20260422T165834
CREATED:20220722T083237Z
LAST-MODIFIED:20220722T083237Z
UID:429-1660348800-1660435199@weddingtonridgehoa.com
SUMMARY:Deven Changela's Rental
DESCRIPTION:
URL:https://weddingtonridgehoa.com/event/deven-changelas-rental/
END:VEVENT
BEGIN:VEVENT
DTSTART;VALUE=DATE:20220806
DTEND;VALUE=DATE:20220807
DTSTAMP:20260422T165834
CREATED:20220603T093140Z
LAST-MODIFIED:20220603T093140Z
UID:420-1659744000-1659830399@weddingtonridgehoa.com
SUMMARY:Sandy - 08.06.22 - Clubhouse Rental
DESCRIPTION:
URL:https://weddingtonridgehoa.com/event/sandy-08-06-22-clubhouse-rental/
END:VEVENT
BEGIN:VEVENT
DTSTART;VALUE=DATE:20220802
DTEND;VALUE=DATE:20220803
DTSTAMP:20260422T165834
CREATED:20220210T073217Z
LAST-MODIFIED:20220210T073217Z
UID:388-1659398400-1659484799@weddingtonridgehoa.com
SUMMARY:National Night Out
DESCRIPTION:
URL:https://weddingtonridgehoa.com/event/national-night-out-2/
END:VEVENT
BEGIN:VEVENT
DTSTART;VALUE=DATE:20220723
DTEND;VALUE=DATE:20220724
DTSTAMP:20260422T165834
CREATED:20220713T084051Z
LAST-MODIFIED:20220713T084051Z
UID:427-1658534400-1658620799@weddingtonridgehoa.com
SUMMARY:Emmanuel & Amanda Ndingwan - Rental
DESCRIPTION:
URL:https://weddingtonridgehoa.com/event/emmanuel-amanda-ndingwan-rental/
END:VEVENT
BEGIN:VEVENT
DTSTART;VALUE=DATE:20220722
DTEND;VALUE=DATE:20220723
DTSTAMP:20260422T165834
CREATED:20220210T073155Z
LAST-MODIFIED:20220210T073155Z
UID:387-1658448000-1658534399@weddingtonridgehoa.com
SUMMARY:Block Party & Food Truck
DESCRIPTION:
URL:https://weddingtonridgehoa.com/event/block-party-food-truck/
END:VEVENT
BEGIN:VEVENT
DTSTART;VALUE=DATE:20220716
DTEND;VALUE=DATE:20220717
DTSTAMP:20260422T165834
CREATED:20220519T093551Z
LAST-MODIFIED:20220519T093600Z
UID:416-1657929600-1658015999@weddingtonridgehoa.com
SUMMARY:Eileen Heon - Clubhouse Rental
DESCRIPTION:
URL:https://weddingtonridgehoa.com/event/eileen-heon-clubhouse-rental/
END:VEVENT
BEGIN:VEVENT
DTSTART;VALUE=DATE:20220709
DTEND;VALUE=DATE:20220710
DTSTAMP:20260422T165834
CREATED:20220331T093513Z
LAST-MODIFIED:20220331T093513Z
UID:399-1657324800-1657411199@weddingtonridgehoa.com
SUMMARY:Clubhouse Rental - Jessica Gunnell
DESCRIPTION:
URL:https://weddingtonridgehoa.com/event/clubhouse-rental-jessica-gunnell/
END:VEVENT
BEGIN:VEVENT
DTSTART;VALUE=DATE:20220702
DTEND;VALUE=DATE:20220703
DTSTAMP:20260422T165834
CREATED:20220512T104904Z
LAST-MODIFIED:20220512T104904Z
UID:414-1656720000-1656806399@weddingtonridgehoa.com
SUMMARY:Rental - Katie Kolkowski
DESCRIPTION:
URL:https://weddingtonridgehoa.com/event/rental-katie-kolkowski/
END:VEVENT
BEGIN:VEVENT
DTSTART;VALUE=DATE:20220625
DTEND;VALUE=DATE:20220626
DTSTAMP:20260422T165834
CREATED:20220621T073921Z
LAST-MODIFIED:20220621T073921Z
UID:422-1656115200-1656201599@weddingtonridgehoa.com
SUMMARY:Julio and Angela Conde - Rental
DESCRIPTION:
URL:https://weddingtonridgehoa.com/event/julio-and-angela-conde-rental/
END:VEVENT
BEGIN:VEVENT
DTSTART;VALUE=DATE:20220611
DTEND;VALUE=DATE:20220612
DTSTAMP:20260422T165834
CREATED:20220525T085028Z
LAST-MODIFIED:20220525T085028Z
UID:418-1654905600-1654991999@weddingtonridgehoa.com
SUMMARY:Clubhouse Rental - Maria Lockhart
DESCRIPTION:
URL:https://weddingtonridgehoa.com/event/clubhouse-rental-maria-lockhart/
END:VEVENT
BEGIN:VEVENT
DTSTART;VALUE=DATE:20220603
DTEND;VALUE=DATE:20220604
DTSTAMP:20260422T165834
CREATED:20220210T073137Z
LAST-MODIFIED:20220210T073137Z
UID:386-1654214400-1654300799@weddingtonridgehoa.com
SUMMARY:Food Truck Summer Kick Off
DESCRIPTION:
URL:https://weddingtonridgehoa.com/event/food-truck-summer-kick-off/
END:VEVENT
BEGIN:VEVENT
DTSTART;VALUE=DATE:20220528
DTEND;VALUE=DATE:20220529
DTSTAMP:20260422T165834
CREATED:20220512T104638Z
LAST-MODIFIED:20220512T104638Z
UID:413-1653696000-1653782399@weddingtonridgehoa.com
SUMMARY:Rental - Jason & Jennifer McKinstry
DESCRIPTION:
URL:https://weddingtonridgehoa.com/event/rental-jason-jennifer-mckinstry/
END:VEVENT
END:VCALENDAR