BEGIN:VCALENDAR
VERSION:2.0
PRODID:-//Weddington Ridge HOA | A Cedar Managed Community - ECPv6.6.4.2//NONSGML v1.0//EN
CALSCALE:GREGORIAN
METHOD:PUBLISH
X-WR-CALNAME:Weddington Ridge HOA | A Cedar Managed Community
X-ORIGINAL-URL:https://weddingtonridgehoa.com
X-WR-CALDESC:Events for Weddington Ridge HOA | A Cedar Managed Community
REFRESH-INTERVAL;VALUE=DURATION:PT1H
X-Robots-Tag:noindex
X-PUBLISHED-TTL:PT1H
BEGIN:VTIMEZONE
TZID:UTC
BEGIN:STANDARD
TZOFFSETFROM:+0000
TZOFFSETTO:+0000
TZNAME:UTC
DTSTART:20210101T000000
END:STANDARD
END:VTIMEZONE
BEGIN:VEVENT
DTSTART;VALUE=DATE:20220802
DTEND;VALUE=DATE:20220803
DTSTAMP:20260424T141319
CREATED:20220210T073217Z
LAST-MODIFIED:20220210T073217Z
UID:388-1659398400-1659484799@weddingtonridgehoa.com
SUMMARY:National Night Out
DESCRIPTION:
URL:https://weddingtonridgehoa.com/event/national-night-out-2/
END:VEVENT
BEGIN:VEVENT
DTSTART;VALUE=DATE:20220723
DTEND;VALUE=DATE:20220724
DTSTAMP:20260424T141319
CREATED:20220713T084051Z
LAST-MODIFIED:20220713T084051Z
UID:427-1658534400-1658620799@weddingtonridgehoa.com
SUMMARY:Emmanuel & Amanda Ndingwan - Rental
DESCRIPTION:
URL:https://weddingtonridgehoa.com/event/emmanuel-amanda-ndingwan-rental/
END:VEVENT
BEGIN:VEVENT
DTSTART;VALUE=DATE:20220722
DTEND;VALUE=DATE:20220723
DTSTAMP:20260424T141319
CREATED:20220210T073155Z
LAST-MODIFIED:20220210T073155Z
UID:387-1658448000-1658534399@weddingtonridgehoa.com
SUMMARY:Block Party & Food Truck
DESCRIPTION:
URL:https://weddingtonridgehoa.com/event/block-party-food-truck/
END:VEVENT
BEGIN:VEVENT
DTSTART;VALUE=DATE:20220716
DTEND;VALUE=DATE:20220717
DTSTAMP:20260424T141319
CREATED:20220519T093551Z
LAST-MODIFIED:20220519T093600Z
UID:416-1657929600-1658015999@weddingtonridgehoa.com
SUMMARY:Eileen Heon - Clubhouse Rental
DESCRIPTION:
URL:https://weddingtonridgehoa.com/event/eileen-heon-clubhouse-rental/
END:VEVENT
BEGIN:VEVENT
DTSTART;VALUE=DATE:20220709
DTEND;VALUE=DATE:20220710
DTSTAMP:20260424T141319
CREATED:20220331T093513Z
LAST-MODIFIED:20220331T093513Z
UID:399-1657324800-1657411199@weddingtonridgehoa.com
SUMMARY:Clubhouse Rental - Jessica Gunnell
DESCRIPTION:
URL:https://weddingtonridgehoa.com/event/clubhouse-rental-jessica-gunnell/
END:VEVENT
BEGIN:VEVENT
DTSTART;VALUE=DATE:20220702
DTEND;VALUE=DATE:20220703
DTSTAMP:20260424T141319
CREATED:20220512T104904Z
LAST-MODIFIED:20220512T104904Z
UID:414-1656720000-1656806399@weddingtonridgehoa.com
SUMMARY:Rental - Katie Kolkowski
DESCRIPTION:
URL:https://weddingtonridgehoa.com/event/rental-katie-kolkowski/
END:VEVENT
BEGIN:VEVENT
DTSTART;VALUE=DATE:20220625
DTEND;VALUE=DATE:20220626
DTSTAMP:20260424T141319
CREATED:20220621T073921Z
LAST-MODIFIED:20220621T073921Z
UID:422-1656115200-1656201599@weddingtonridgehoa.com
SUMMARY:Julio and Angela Conde - Rental
DESCRIPTION:
URL:https://weddingtonridgehoa.com/event/julio-and-angela-conde-rental/
END:VEVENT
BEGIN:VEVENT
DTSTART;VALUE=DATE:20220611
DTEND;VALUE=DATE:20220612
DTSTAMP:20260424T141319
CREATED:20220525T085028Z
LAST-MODIFIED:20220525T085028Z
UID:418-1654905600-1654991999@weddingtonridgehoa.com
SUMMARY:Clubhouse Rental - Maria Lockhart
DESCRIPTION:
URL:https://weddingtonridgehoa.com/event/clubhouse-rental-maria-lockhart/
END:VEVENT
BEGIN:VEVENT
DTSTART;VALUE=DATE:20220603
DTEND;VALUE=DATE:20220604
DTSTAMP:20260424T141319
CREATED:20220210T073137Z
LAST-MODIFIED:20220210T073137Z
UID:386-1654214400-1654300799@weddingtonridgehoa.com
SUMMARY:Food Truck Summer Kick Off
DESCRIPTION:
URL:https://weddingtonridgehoa.com/event/food-truck-summer-kick-off/
END:VEVENT
BEGIN:VEVENT
DTSTART;VALUE=DATE:20220528
DTEND;VALUE=DATE:20220529
DTSTAMP:20260424T141319
CREATED:20220512T104638Z
LAST-MODIFIED:20220512T104638Z
UID:413-1653696000-1653782399@weddingtonridgehoa.com
SUMMARY:Rental - Jason & Jennifer McKinstry
DESCRIPTION:
URL:https://weddingtonridgehoa.com/event/rental-jason-jennifer-mckinstry/
END:VEVENT
BEGIN:VEVENT
DTSTART;VALUE=DATE:20220514
DTEND;VALUE=DATE:20220515
DTSTAMP:20260424T141319
CREATED:20220210T073119Z
LAST-MODIFIED:20220210T073119Z
UID:385-1652486400-1652572799@weddingtonridgehoa.com
SUMMARY:Pool Opening Day Party
DESCRIPTION:
URL:https://weddingtonridgehoa.com/event/pool-opening-day-party/
END:VEVENT
BEGIN:VEVENT
DTSTART;VALUE=DATE:20220507
DTEND;VALUE=DATE:20220508
DTSTAMP:20260424T141319
CREATED:20220428T123637Z
LAST-MODIFIED:20220428T123637Z
UID:411-1651881600-1651967999@weddingtonridgehoa.com
SUMMARY:Barry & Linnea Robinson Clubhouse Rental
DESCRIPTION:
URL:https://weddingtonridgehoa.com/event/barry-linnea-robinson-clubhouse-rental/
END:VEVENT
BEGIN:VEVENT
DTSTART;VALUE=DATE:20220423
DTEND;VALUE=DATE:20220424
DTSTAMP:20260424T141319
CREATED:20220331T093650Z
LAST-MODIFIED:20220331T093650Z
UID:400-1650672000-1650758399@weddingtonridgehoa.com
SUMMARY:Clubhouse Rental - Carol McDonald
DESCRIPTION:
URL:https://weddingtonridgehoa.com/event/clubhouse-rental-carol-mcdonald/
END:VEVENT
BEGIN:VEVENT
DTSTART;TZID=UTC:20220409T110000
DTEND;TZID=UTC:20220409T170000
DTSTAMP:20260424T141319
CREATED:20220408T160108Z
LAST-MODIFIED:20220408T160108Z
UID:402-1649502000-1649523600@weddingtonridgehoa.com
SUMMARY:David E. & Ashley Bremen - Rental (Private Event)
DESCRIPTION:
URL:https://weddingtonridgehoa.com/event/david-e-ashley-bremen-rental-private-event/
END:VEVENT
BEGIN:VEVENT
DTSTART;TZID=UTC:20220403T150000
DTEND;TZID=UTC:20220403T170000
DTSTAMP:20260424T141319
CREATED:20220210T073100Z
LAST-MODIFIED:20220322T091952Z
UID:384-1648998000-1649005200@weddingtonridgehoa.com
SUMMARY:Spring Festival
DESCRIPTION:
URL:https://weddingtonridgehoa.com/event/spring-festival-2/
END:VEVENT
BEGIN:VEVENT
DTSTART;TZID=UTC:20220402T080000
DTEND;TZID=UTC:20220402T140000
DTSTAMP:20260424T141319
CREATED:20220322T091848Z
LAST-MODIFIED:20220322T091848Z
UID:396-1648886400-1648908000@weddingtonridgehoa.com
SUMMARY:Community Yard Sale
DESCRIPTION:
URL:https://weddingtonridgehoa.com/event/community-yard-sale-2/
END:VEVENT
BEGIN:VEVENT
DTSTART;VALUE=DATE:20220402
DTEND;VALUE=DATE:20220403
DTSTAMP:20260424T141319
CREATED:20220210T073036Z
LAST-MODIFIED:20220210T073036Z
UID:383-1648857600-1648943999@weddingtonridgehoa.com
SUMMARY:Clubhouse Blocked
DESCRIPTION:
URL:https://weddingtonridgehoa.com/event/clubhouse-blocked/
END:VEVENT
BEGIN:VEVENT
DTSTART;VALUE=DATE:20220326
DTEND;VALUE=DATE:20220327
DTSTAMP:20260424T141319
CREATED:20220131T110944Z
LAST-MODIFIED:20220131T110944Z
UID:380-1648252800-1648339199@weddingtonridgehoa.com
SUMMARY:Clubhouse Reservation - McDonald
DESCRIPTION:
URL:https://weddingtonridgehoa.com/event/clubhouse-reservation-mcdonald/
END:VEVENT
BEGIN:VEVENT
DTSTART;VALUE=DATE:20220219
DTEND;VALUE=DATE:20220220
DTSTAMP:20260424T141319
CREATED:20220210T072806Z
LAST-MODIFIED:20220210T072806Z
UID:382-1645228800-1645315199@weddingtonridgehoa.com
SUMMARY:Rental - Deboprotim Ghosh
DESCRIPTION:
URL:https://weddingtonridgehoa.com/event/rental-deboprotim-ghosh/
END:VEVENT
BEGIN:VEVENT
DTSTART;VALUE=DATE:20220122
DTEND;VALUE=DATE:20220123
DTSTAMP:20260424T141319
CREATED:20220105T100158Z
LAST-MODIFIED:20220105T100158Z
UID:374-1642809600-1642895999@weddingtonridgehoa.com
SUMMARY:Community Event
DESCRIPTION:
URL:https://weddingtonridgehoa.com/event/community-event/
END:VEVENT
BEGIN:VEVENT
DTSTART;VALUE=DATE:20220121
DTEND;VALUE=DATE:20220122
DTSTAMP:20260424T141319
CREATED:20220105T100144Z
LAST-MODIFIED:20220105T100144Z
UID:373-1642723200-1642809599@weddingtonridgehoa.com
SUMMARY:Kathryn Sprenger
DESCRIPTION:
URL:https://weddingtonridgehoa.com/event/kathryn-sprenger/
END:VEVENT
BEGIN:VEVENT
DTSTART;VALUE=DATE:20220115
DTEND;VALUE=DATE:20220116
DTSTAMP:20260424T141319
CREATED:20220107T100354Z
LAST-MODIFIED:20220107T100354Z
UID:375-1642204800-1642291199@weddingtonridgehoa.com
SUMMARY:Private Rental for John & Anar McCaffrey
DESCRIPTION:
URL:https://weddingtonridgehoa.com/event/private-rental-for-john-anar-mccaffrey/
END:VEVENT
BEGIN:VEVENT
DTSTART;VALUE=DATE:20211218
DTEND;VALUE=DATE:20211219
DTSTAMP:20260424T141319
CREATED:20211005T053946Z
LAST-MODIFIED:20211005T053946Z
UID:356-1639785600-1639871999@weddingtonridgehoa.com
SUMMARY:Clubhouse Reservation - Smith - 12.18.21
DESCRIPTION:
URL:https://weddingtonridgehoa.com/event/clubhouse-reservation-smith-12-18-21/
END:VEVENT
BEGIN:VEVENT
DTSTART;VALUE=DATE:20211218
DTEND;VALUE=DATE:20211219
DTSTAMP:20260424T141319
CREATED:20210511T110459Z
LAST-MODIFIED:20211103T123454Z
UID:325-1639785600-1639871999@weddingtonridgehoa.com
SUMMARY:Winterfest
DESCRIPTION:
URL:https://weddingtonridgehoa.com/event/winterfest/
END:VEVENT
BEGIN:VEVENT
DTSTART;VALUE=DATE:20211217
DTEND;VALUE=DATE:20211218
DTSTAMP:20260424T141319
CREATED:20211102T072311Z
LAST-MODIFIED:20211102T072311Z
UID:360-1639699200-1639785599@weddingtonridgehoa.com
SUMMARY:Alissa Lodahl - Clubhouse
DESCRIPTION:
URL:https://weddingtonridgehoa.com/event/alissa-lodahl-clubhouse/
END:VEVENT
BEGIN:VEVENT
DTSTART;VALUE=DATE:20211211
DTEND;VALUE=DATE:20211212
DTSTAMP:20260424T141319
CREATED:20211124T071646Z
LAST-MODIFIED:20211124T071646Z
UID:371-1639180800-1639267199@weddingtonridgehoa.com
SUMMARY:Clubhouse Rental - Amy and Randolph Curry
DESCRIPTION:
URL:https://weddingtonridgehoa.com/event/clubhouse-rental-amy-and-randolph-curry/
END:VEVENT
BEGIN:VEVENT
DTSTART;VALUE=DATE:20211204
DTEND;VALUE=DATE:20211205
DTSTAMP:20260424T141319
CREATED:20211104T062530Z
LAST-MODIFIED:20211104T062530Z
UID:361-1638576000-1638662399@weddingtonridgehoa.com
SUMMARY:Community Sign Painting Event
DESCRIPTION:
URL:https://weddingtonridgehoa.com/event/community-sign-painting-event/
END:VEVENT
BEGIN:VEVENT
DTSTART;TZID=UTC:20211113T090000
DTEND;TZID=UTC:20211113T130000
DTSTAMP:20260424T141319
CREATED:20211109T100203Z
LAST-MODIFIED:20211110T162539Z
UID:362-1636794000-1636808400@weddingtonridgehoa.com
SUMMARY:Holiday Vendor Event
DESCRIPTION:
URL:https://weddingtonridgehoa.com/event/holiday-vendor-event/
END:VEVENT
BEGIN:VEVENT
DTSTART;VALUE=DATE:20211016
DTEND;VALUE=DATE:20211017
DTSTAMP:20260424T141319
CREATED:20211006T145031Z
LAST-MODIFIED:20211006T145031Z
UID:358-1634342400-1634428799@weddingtonridgehoa.com
SUMMARY:Clubhouse - Per Kvarby
DESCRIPTION:
URL:https://weddingtonridgehoa.com/event/clubhouse-per-kvarby/
END:VEVENT
BEGIN:VEVENT
DTSTART;TZID=UTC:20210925T180000
DTEND;TZID=UTC:20210925T220000
DTSTAMP:20260424T141319
CREATED:20210511T110428Z
LAST-MODIFIED:20210820T160142Z
UID:324-1632592800-1632607200@weddingtonridgehoa.com
SUMMARY:Brews and Blues (Adult Only Event)
DESCRIPTION:
URL:https://weddingtonridgehoa.com/event/brews-and-blues-adult-only-event/
END:VEVENT
END:VCALENDAR