BEGIN:VCALENDAR
VERSION:2.0
PRODID:-//Weddington Ridge HOA | A Cedar Managed Community - ECPv6.6.4.2//NONSGML v1.0//EN
CALSCALE:GREGORIAN
METHOD:PUBLISH
X-WR-CALNAME:Weddington Ridge HOA | A Cedar Managed Community
X-ORIGINAL-URL:https://weddingtonridgehoa.com
X-WR-CALDESC:Events for Weddington Ridge HOA | A Cedar Managed Community
REFRESH-INTERVAL;VALUE=DURATION:PT1H
X-Robots-Tag:noindex
X-PUBLISHED-TTL:PT1H
BEGIN:VTIMEZONE
TZID:UTC
BEGIN:STANDARD
TZOFFSETFROM:+0000
TZOFFSETTO:+0000
TZNAME:UTC
DTSTART:20260101T000000
END:STANDARD
END:VTIMEZONE
BEGIN:VEVENT
DTSTART;VALUE=DATE:20260516
DTEND;VALUE=DATE:20260517
DTSTAMP:20260422T222243
CREATED:20260326T173202Z
LAST-MODIFIED:20260326T173202Z
UID:639-1778889600-1778975999@weddingtonridgehoa.com
SUMMARY:Pool opening party
DESCRIPTION:
URL:https://weddingtonridgehoa.com/event/pool-opening-party-2/
END:VEVENT
BEGIN:VEVENT
DTSTART;TZID=UTC:20260517T173000
DTEND;TZID=UTC:20260517T203000
DTSTAMP:20260422T222243
CREATED:20260422T163857Z
LAST-MODIFIED:20260422T163857Z
UID:647-1779039000-1779049800@weddingtonridgehoa.com
SUMMARY:Kristen Truong
DESCRIPTION:
URL:https://weddingtonridgehoa.com/event/kristen-truong/
END:VEVENT
BEGIN:VEVENT
DTSTART;TZID=UTC:20260731T120000
DTEND;TZID=UTC:20260731T234500
DTSTAMP:20260422T222243
CREATED:20260420T125010Z
LAST-MODIFIED:20260420T125010Z
UID:645-1785499200-1785541500@weddingtonridgehoa.com
SUMMARY:David Mallette
DESCRIPTION:
URL:https://weddingtonridgehoa.com/event/david-mallette/
END:VEVENT
END:VCALENDAR